BEGIN:VCALENDAR
VERSION:2.0
PRODID:https://timm4.landratsamt-roth.de/
X-PUBLISHED-TTL:P1D
BEGIN:VEVENT
UID:69ed45e6a7f57
DTSTART:20260429T063000Z
SEQUENCE:0
TRANSP:OPAQUE
DTEND:20260429T103000Z
URL:https://timm4.landratsamt-roth.de/veranstaltungen/heidecker_bauernmarkt
 -399127-12621689/
LOCATION:Marktplatz - Heideck
SUMMARY:Heidecker Bauernmarkt
DTSTAMP:20260426T005326Z
END:VEVENT
END:VCALENDAR