BEGIN:VCALENDAR
VERSION:2.0
PRODID:https://timm4.landratsamt-roth.de/
X-PUBLISHED-TTL:P1D
BEGIN:VEVENT
UID:69e9f7fce1113
DTSTART:20261204T163000Z
SEQUENCE:0
TRANSP:OPAQUE
DTEND:20261204T163000Z
URL:https://timm4.landratsamt-roth.de/veranstaltungen/heavysaurus-763711-12
 661931/
LOCATION:Kulturfabrik - Roth
SUMMARY:HEAVYSAURUS
DESCRIPTION:Metal-Tour
DTSTAMP:20260423T124412Z
END:VEVENT
END:VCALENDAR