BEGIN:VCALENDAR
VERSION:2.0
PRODID:https://timm4.landratsamt-roth.de/
X-PUBLISHED-TTL:P1D
BEGIN:VEVENT
UID:69e5373e10257
DTSTART:20260619T163000Z
SEQUENCE:0
TRANSP:OPAQUE
DTEND:20260619T163000Z
URL:https://timm4.landratsamt-roth.de/veranstaltungen/haustreppenkonzert_mi
 t_guenthe-773545-12666161/
LOCATION:Wirtshaus Lang Marie - Spalt
SUMMARY:Haustreppenkonzert mit Günther Goller
DESCRIPTION:Livemusik - Wirtshaus Lang Marie
DTSTAMP:20260419T221246Z
END:VEVENT
END:VCALENDAR