BEGIN:VCALENDAR
VERSION:2.0
PRODID:https://timm4.landratsamt-roth.de/
X-PUBLISHED-TTL:P1D
BEGIN:VEVENT
UID:69e53780e00d6
DTSTART:20260815T163000Z
SEQUENCE:0
TRANSP:OPAQUE
DTEND:20260815T163000Z
URL:https://timm4.landratsamt-roth.de/veranstaltungen/haustreppenkonzert_mi
 t_christo-773547-12666163/
LOCATION:Wirtshaus Lang Marie - Spalt
SUMMARY:Haustreppenkonzert mit Christoph Wechsler
DESCRIPTION:Livemusik - Wirtshaus Lang Marie
DTSTAMP:20260419T221352Z
END:VEVENT
END:VCALENDAR