BEGIN:VCALENDAR
VERSION:2.0
PRODID:https://timm4.landratsamt-roth.de/
X-PUBLISHED-TTL:P1D
BEGIN:VEVENT
UID:69e7c2811e948
DTSTART:20261004T080000Z
SEQUENCE:0
TRANSP:OPAQUE
DTEND:20261004T150000Z
URL:https://timm4.landratsamt-roth.de/veranstaltungen/gredinger_herbstmarkt
 -649785-12577597/
LOCATION:Marktplatz - Greding
SUMMARY:Gredinger Herbstmarkt
DESCRIPTION:mit mobiler Apfelmosterei und verkaufsoffenem Sonntag
DTSTAMP:20260421T203129Z
END:VEVENT
END:VCALENDAR