BEGIN:VCALENDAR
VERSION:2.0
PRODID:https://timm4.landratsamt-roth.de/
X-PUBLISHED-TTL:P1D
BEGIN:VEVENT
UID:69e617e35faa0
DTSTART:20260430T060000Z
SEQUENCE:0
TRANSP:OPAQUE
DTEND:20260430T100000Z
URL:https://timm4.landratsamt-roth.de/veranstaltungen/gredinger_bauernmarkt
 -735877-12681771/
LOCATION:Altstadtparkplatz beim Hallenbad - Greding
SUMMARY:Gredinger Bauernmarkt
DTSTAMP:20260420T141115Z
END:VEVENT
END:VCALENDAR