BEGIN:VCALENDAR
VERSION:2.0
PRODID:https://timm4.landratsamt-roth.de/
X-PUBLISHED-TTL:P1D
BEGIN:VEVENT
UID:69e75038c5fa1
DTSTART:20260814T060000Z
SEQUENCE:0
TRANSP:OPAQUE
DTEND:20260814T100000Z
URL:https://timm4.landratsamt-roth.de/veranstaltungen/gredinger_bauernmarkt
 -735877-12638555/
LOCATION:Altstadtparkplatz beim Hallenbad - Greding
SUMMARY:Gredinger Bauernmarkt
DTSTAMP:20260421T122352Z
END:VEVENT
END:VCALENDAR