BEGIN:VCALENDAR
VERSION:2.0
PRODID:https://timm4.landratsamt-roth.de/
X-PUBLISHED-TTL:P1D
BEGIN:VEVENT
UID:69e74d569c43b
DTSTART:20260626T060000Z
SEQUENCE:0
TRANSP:OPAQUE
DTEND:20260626T100000Z
URL:https://timm4.landratsamt-roth.de/veranstaltungen/gredinger_bauernmarkt
 -735877-12638543/
LOCATION:Altstadtparkplatz beim Hallenbad - Greding
SUMMARY:Gredinger Bauernmarkt
DTSTAMP:20260421T121134Z
END:VEVENT
END:VCALENDAR