BEGIN:VCALENDAR
VERSION:2.0
PRODID:https://timm4.landratsamt-roth.de/
X-PUBLISHED-TTL:P1D
BEGIN:VEVENT
UID:69e74d3c2c76c
DTSTART:20260529T060000Z
SEQUENCE:0
TRANSP:OPAQUE
DTEND:20260529T100000Z
URL:https://timm4.landratsamt-roth.de/veranstaltungen/gredinger_bauernmarkt
 -735877-12638535/
LOCATION:Altstadtparkplatz beim Hallenbad - Greding
SUMMARY:Gredinger Bauernmarkt
DTSTAMP:20260421T121108Z
END:VEVENT
END:VCALENDAR