BEGIN:VCALENDAR
VERSION:2.0
PRODID:https://timm4.landratsamt-roth.de/
X-PUBLISHED-TTL:P1D
BEGIN:VEVENT
UID:69e7dcc4f3b5e
DTSTART:20260514T080000Z
SEQUENCE:0
TRANSP:OPAQUE
DTEND:20260514T080000Z
URL:https://timm4.landratsamt-roth.de/veranstaltungen/gottesdienst_im_land_
 um_stauf-741717-12644679/
LOCATION:Altenberg Stauf - Thalmässing
SUMMARY:Gottesdienst im Land um Stauf
DTSTAMP:20260421T222333Z
END:VEVENT
END:VCALENDAR