BEGIN:VCALENDAR
VERSION:2.0
PRODID:https://timm4.landratsamt-roth.de/
X-PUBLISHED-TTL:P1D
BEGIN:VEVENT
UID:69ea9ce74b8d9
DTSTART:20260503T120000Z
SEQUENCE:0
TRANSP:OPAQUE
DTEND:20260503T133000Z
URL:https://timm4.landratsamt-roth.de/veranstaltungen/fuehrungen_im_schloss
 _ratibor-655837-12579323/
LOCATION:Schloss Ratibor - Roth
SUMMARY:Führungen im Schloss Ratibor und Stadtmuseum
DTSTAMP:20260424T002751Z
END:VEVENT
END:VCALENDAR