BEGIN:VCALENDAR
VERSION:2.0
PRODID:https://timm4.landratsamt-roth.de/
X-PUBLISHED-TTL:P1D
BEGIN:VEVENT
UID:69ecafdbdbdbf
DTSTART:20261208T183000Z
SEQUENCE:0
TRANSP:OPAQUE
DTEND:20261208T210000Z
URL:https://timm4.landratsamt-roth.de/veranstaltungen/fotofreunde_hip-41011
 5-12614749
LOCATION:Residenz Hilpoltstein - Hilpoltstein
SUMMARY:Fotofreunde HIP
DTSTAMP:20260425T141315Z
END:VEVENT
END:VCALENDAR