BEGIN:VCALENDAR
VERSION:2.0
PRODID:https://timm4.landratsamt-roth.de/
X-PUBLISHED-TTL:P1D
BEGIN:VEVENT
UID:69ecafdc63ee3
DTSTART:20261110T183000Z
SEQUENCE:0
TRANSP:OPAQUE
DTEND:20261110T210000Z
URL:https://timm4.landratsamt-roth.de/veranstaltungen/fotofreunde_hip-41011
 5-12614745
LOCATION:Residenz Hilpoltstein - Hilpoltstein
SUMMARY:Fotofreunde HIP
DTSTAMP:20260425T141316Z
END:VEVENT
END:VCALENDAR