BEGIN:VCALENDAR
VERSION:2.0
PRODID:https://timm4.landratsamt-roth.de/
X-PUBLISHED-TTL:P1D
BEGIN:VEVENT
UID:69eb3dd7354f7
DTSTART:20260818T173000Z
SEQUENCE:0
TRANSP:OPAQUE
DTEND:20260818T200000Z
URL:https://timm4.landratsamt-roth.de/veranstaltungen/fotofreunde_hip-41011
 5-12614735
LOCATION:Residenz Hilpoltstein - Hilpoltstein
SUMMARY:Fotofreunde HIP
DTSTAMP:20260424T115431Z
END:VEVENT
END:VCALENDAR