BEGIN:VCALENDAR
VERSION:2.0
PRODID:https://timm4.landratsamt-roth.de/
X-PUBLISHED-TTL:P1D
BEGIN:VEVENT
UID:69ed1ac6a786a
DTSTART:20261227T140000Z
SEQUENCE:0
TRANSP:OPAQUE
DTEND:20261227T140000Z
URL:https://timm4.landratsamt-roth.de/veranstaltungen/familienfuehrung_mit_
 museumsca-714725-12623271/
LOCATION:Burgmuseum Abenberg - Abenberg
SUMMARY:Familienführung mit Museumscafè
DTSTAMP:20260425T214926Z
END:VEVENT
END:VCALENDAR