BEGIN:VCALENDAR
VERSION:2.0
PRODID:https://timm4.landratsamt-roth.de/
X-PUBLISHED-TTL:P1D
BEGIN:VEVENT
UID:69e6adf8524cf
DTSTART:20260816T093000Z
SEQUENCE:0
TRANSP:OPAQUE
DTEND:20260816T150000Z
URL:https://timm4.landratsamt-roth.de/veranstaltungen/engelhoffest-772679-1
 2665857/
LOCATION:Einöde Engelhof - Spalt
SUMMARY:Engelhoffest
DESCRIPTION:Spalter Heimatverein
DTSTAMP:20260421T005136Z
END:VEVENT
END:VCALENDAR