BEGIN:VCALENDAR
VERSION:2.0
PRODID:https://timm4.landratsamt-roth.de/
X-PUBLISHED-TTL:P1D
BEGIN:VEVENT
UID:69ebd42fe9bfe
DTSTART:20261203T130000Z
SEQUENCE:0
TRANSP:OPAQUE
DTEND:20261203T170000Z
URL:https://timm4.landratsamt-roth.de/veranstaltungen/energieberatung_durch
 _die_unab-464865-12615001/
LOCATION:Residenz Hilpoltstein - Hilpoltstein
SUMMARY:Energieberatung durch die unabhängige Energieberatungsagentur Roth
  (ENA)
DTSTAMP:20260424T223559Z
END:VEVENT
END:VCALENDAR