BEGIN:VCALENDAR
VERSION:2.0
PRODID:https://timm4.landratsamt-roth.de/
X-PUBLISHED-TTL:P1D
BEGIN:VEVENT
UID:69ea9881bf49c
DTSTART:20261008T120000Z
SEQUENCE:0
TRANSP:OPAQUE
DTEND:20261008T160000Z
URL:https://timm4.landratsamt-roth.de/veranstaltungen/energieberatung_durch
 _die_unab-464865-12614997/
LOCATION:Residenz Hilpoltstein - Hilpoltstein
SUMMARY:Energieberatung durch die unabhängige Energieberatungsagentur Roth
  (ENA)
DTSTAMP:20260424T000905Z
END:VEVENT
END:VCALENDAR