BEGIN:VCALENDAR
VERSION:2.0
PRODID:https://timm4.landratsamt-roth.de/
X-PUBLISHED-TTL:P1D
BEGIN:VEVENT
UID:69ec98d82602f
DTSTART:20260910T120000Z
SEQUENCE:0
TRANSP:OPAQUE
DTEND:20260910T160000Z
URL:https://timm4.landratsamt-roth.de/veranstaltungen/energieberatung_durch
 _die_unab-464865-12614995/
LOCATION:Residenz Hilpoltstein - Hilpoltstein
SUMMARY:Energieberatung durch die unabhängige Energieberatungsagentur Roth
  (ENA)
DTSTAMP:20260425T123504Z
END:VEVENT
END:VCALENDAR