BEGIN:VCALENDAR
VERSION:2.0
PRODID:https://timm4.landratsamt-roth.de/
X-PUBLISHED-TTL:P1D
BEGIN:VEVENT
UID:69eb3e2b35b87
DTSTART:20260711T183000Z
SEQUENCE:0
TRANSP:OPAQUE
DTEND:20260711T210000Z
URL:https://timm4.landratsamt-roth.de/veranstaltungen/burgspiel-theatererle
 bnis_inmi-611907-12558953/
LOCATION:Burg Hilpoltstein - Hilpoltstein
SUMMARY:Burgspiel - Theatererlebnis inmitten der grandiosen Burgkulisse
DTSTAMP:20260424T115555Z
END:VEVENT
END:VCALENDAR