BEGIN:VCALENDAR
VERSION:2.0
PRODID:https://timm4.landratsamt-roth.de/
X-PUBLISHED-TTL:P1D
BEGIN:VEVENT
UID:69e784596e3f9
DTSTART:20261128T190000Z
SEQUENCE:0
TRANSP:OPAQUE
DTEND:20261128T210000Z
URL:https://timm4.landratsamt-roth.de/veranstaltungen/bruno_jonas-773515-12
 666119/
LOCATION:Kulturfabrik - Roth
SUMMARY:Bruno Jonas
DESCRIPTION:Klappe halten!
DTSTAMP:20260421T160617Z
END:VEVENT
END:VCALENDAR