BEGIN:VCALENDAR
VERSION:2.0
PRODID:https://timm4.landratsamt-roth.de/
X-PUBLISHED-TTL:P1D
BEGIN:VEVENT
UID:69eaa0cc47914
DTSTART:20261028T160000Z
SEQUENCE:0
TRANSP:OPAQUE
DTEND:20261028T183000Z
URL:https://timm4.landratsamt-roth.de/veranstaltungen/bier_bratwurst-554175
 -12619137/
LOCATION:Erlebniswelt HopfenBierGut & Tourist-Information im Kornhaus der S
 tadt Spalt - Spalt
SUMMARY:Bier & Bratwurst
DESCRIPTION:ErlebnisWelt HopfenBierGut
DTSTAMP:20260424T004428Z
END:VEVENT
END:VCALENDAR