BEGIN:VCALENDAR
VERSION:2.0
PRODID:https://timm4.landratsamt-roth.de/
X-PUBLISHED-TTL:P1D
BEGIN:VEVENT
UID:69eaa5279522e
DTSTART:20260923T150000Z
SEQUENCE:0
TRANSP:OPAQUE
DTEND:20260923T173000Z
URL:https://timm4.landratsamt-roth.de/veranstaltungen/bier_bratwurst-554175
 -12619135/
LOCATION:Erlebniswelt HopfenBierGut & Tourist-Information im Kornhaus der S
 tadt Spalt - Spalt
SUMMARY:Bier & Bratwurst
DESCRIPTION:ErlebnisWelt HopfenBierGut
DTSTAMP:20260424T010303Z
END:VEVENT
END:VCALENDAR