BEGIN:VCALENDAR
VERSION:2.0
PRODID:https://timm4.landratsamt-roth.de/
X-PUBLISHED-TTL:P1D
BEGIN:VEVENT
UID:69ea98834213a
DTSTART:20260910T070000Z
SEQUENCE:0
TRANSP:OPAQUE
DTEND:20260910T130000Z
URL:https://timm4.landratsamt-roth.de/veranstaltungen/aussensprechtag_des_v
 dk-400985-12604379/
LOCATION:Residenz Hilpoltstein - Hilpoltstein
SUMMARY:Außensprechtag des VdK
DESCRIPTION:Sozialrechtsberatung
DTSTAMP:20260424T000907Z
END:VEVENT
END:VCALENDAR