BEGIN:VCALENDAR
VERSION:2.0
PRODID:https://timm4.landratsamt-roth.de/
X-PUBLISHED-TTL:P1D
BEGIN:VEVENT
UID:69e784e3ad715
DTSTART:20261204T140000Z
SEQUENCE:0
TRANSP:OPAQUE
DTEND:20261204T140000Z
URL:https://timm4.landratsamt-roth.de/veranstaltungen/7_wanderung_des_heide
 cker_wand-806541-12681777/
LOCATION:DJK Sportplatz Laibstadt - Heideck
SUMMARY:7. Wanderung des Heidecker Wanderpasses
DESCRIPTION:Fackelwanderung um Heideck
DTSTAMP:20260421T160835Z
END:VEVENT
END:VCALENDAR