BEGIN:VCALENDAR
VERSION:2.0
PRODID:https://timm4.landratsamt-roth.de/
X-PUBLISHED-TTL:P1D
BEGIN:VEVENT
UID:69e78493c18f9
DTSTART:20261017T120000Z
SEQUENCE:0
TRANSP:OPAQUE
DTEND:20261017T120000Z
URL:https://timm4.landratsamt-roth.de/veranstaltungen/6_wanderung_des_heide
 cker_wand-806539-12681775/
LOCATION:DJK Sportplatz Laibstadt - Heideck
SUMMARY:6. Wanderung des Heidecker Wanderpasses
DESCRIPTION:Wald-Gesundheitstraining
DTSTAMP:20260421T160715Z
END:VEVENT
END:VCALENDAR