BEGIN:VCALENDAR
VERSION:2.0
PRODID:https://timm4.landratsamt-roth.de/
X-PUBLISHED-TTL:P1D
BEGIN:VEVENT
UID:69e786b605f0c
DTSTART:20261004T120000Z
SEQUENCE:0
TRANSP:OPAQUE
DTEND:20261004T120000Z
URL:https://timm4.landratsamt-roth.de/veranstaltungen/5_wanderung_des_heide
 cker_wand-806537-12681773/
LOCATION:Parkplatz Nahe Schloßberg 71 - Heideck
SUMMARY:5. Wanderung des Heidecker Wanderpasses
DESCRIPTION:Spaziergang am Schlossberg: Hochbehälter\, Rundweg
DTSTAMP:20260421T161622Z
END:VEVENT
END:VCALENDAR