BEGIN:VCALENDAR
VERSION:2.0
PRODID:https://timm4.landratsamt-roth.de/
X-PUBLISHED-TTL:P1D
BEGIN:VEVENT
UID:69e786b581f00
DTSTART:20260823T150000Z
SEQUENCE:0
TRANSP:OPAQUE
DTEND:20260823T150000Z
URL:https://timm4.landratsamt-roth.de/veranstaltungen/4_wanderung_des_heide
 cker_wand-806535-12681769/
LOCATION:- Veranstaltung ohne festen Ort - Heideck
SUMMARY:4. Wanderung des Heidecker Wanderpasses
DESCRIPTION:Entlang der Europäischen Hauptwasserscheide - Teil 2
DTSTAMP:20260421T161621Z
END:VEVENT
END:VCALENDAR