BEGIN:VCALENDAR
VERSION:2.0
PRODID:https://timm4.landratsamt-roth.de/
X-PUBLISHED-TTL:P1D
BEGIN:VEVENT
UID:69e784ab83bf4
DTSTART:20260712T120000Z
SEQUENCE:0
TRANSP:OPAQUE
DTEND:20260712T120000Z
URL:https://timm4.landratsamt-roth.de/veranstaltungen/3_wanderung_des_heide
 cker_wand-806533-12681767/
LOCATION:- Veranstaltung ohne festen Ort - Heideck
SUMMARY:3. Wanderung des Heidecker Wanderpasses
DESCRIPTION:Wo kommt unser Trinkwasser her?
DTSTAMP:20260421T160739Z
END:VEVENT
END:VCALENDAR