BEGIN:VCALENDAR
VERSION:2.0
PRODID:https://timm4.landratsamt-roth.de/
X-PUBLISHED-TTL:P1D
BEGIN:VEVENT
UID:69e78668449a0
DTSTART:20260517T110000Z
SEQUENCE:0
TRANSP:OPAQUE
DTEND:20260517T110000Z
URL:https://timm4.landratsamt-roth.de/veranstaltungen/2_wanderung_des_heide
 cker_wand-806529-12681763/
LOCATION:- Veranstaltung ohne festen Ort - Heideck
SUMMARY:2. Wanderung des Heidecker Wanderpasses
DESCRIPTION:Auf dem Heuweg von Laibstadt nach Bergen
DTSTAMP:20260421T161504Z
END:VEVENT
END:VCALENDAR