BEGIN:VCALENDAR
VERSION:2.0
PRODID:https://timm4.landratsamt-roth.de/
X-PUBLISHED-TTL:P1D
BEGIN:VEVENT
UID:69e7ae810a54a
DTSTART:20260607T080000Z
SEQUENCE:0
TRANSP:OPAQUE
DTEND:20260607T080000Z
URL:https://timm4.landratsamt-roth.de/veranstaltungen/2_gefuehrte_wanderung
 _der_wand-737781-12640831/
LOCATION:Freibad Thalmässing - Thalmässing
SUMMARY:2. Geführte Wanderung der Wanderwegpaten Thalmässing 2026
DESCRIPTION:Entlang der Jurakente
DTSTAMP:20260421T190609Z
END:VEVENT
END:VCALENDAR