BEGIN:VCALENDAR
VERSION:2.0
PRODID:https://timm4.landratsamt-roth.de/
X-PUBLISHED-TTL:P1D
BEGIN:VEVENT
UID:69e786de81477
DTSTART:20260503T120000Z
SEQUENCE:0
TRANSP:OPAQUE
DTEND:20260503T120000Z
URL:https://timm4.landratsamt-roth.de/veranstaltungen/1_wanderung_des_heide
 cker_wand-777789-12668115/
LOCATION:- Veranstaltung ohne festen Ort - Heideck
SUMMARY:1. Wanderung des Heidecker Wanderpasses-
DESCRIPTION:Märchenspaziergang für Kinder und Erwachsene
DTSTAMP:20260421T161702Z
END:VEVENT
END:VCALENDAR